BEGIN:VCALENDAR
VERSION:2.0
PRODID:-//43.250.140.40//NONSGML kigkonsult.se iCalcreator 2.26.9//
CALSCALE:GREGORIAN
METHOD:PUBLISH
X-FROM-URL:https://www.brisbanegunclub.com.au
X-WR-TIMEZONE:Australia/Brisbane
BEGIN:VTIMEZONE
TZID:Australia/Brisbane
X-LIC-LOCATION:Australia/Brisbane
BEGIN:STANDARD
DTSTART:19920301T030000
TZOFFSETFROM:+1100
TZOFFSETTO:+1000
TZNAME:AEST
END:STANDARD
END:VTIMEZONE
BEGIN:VEVENT
UID:ai1ec-609@www.brisbanegunclub.com.au
DTSTAMP:20210228T053558Z
CATEGORIES:
CONTACT:
DESCRIPTION:
DTSTART;TZID=Australia/Brisbane:20180318T093000
DTEND;TZID=Australia/Brisbane:20180318T173000
EXDATE;TZID=Australia/Brisbane:20171119T093000
EXDATE;TZID=Australia/Brisbane:20180916T093000
EXDATE;TZID=Australia/Brisbane:20181118T093000
RRULE:FREQ=MONTHLY;UNTIL=20181231T235959Z;BYDAY=3SU
SEQUENCE:0
SUMMARY:Monthly Trench Comp
URL:https://www.brisbanegunclub.com.au/event/monthly-trench-comp/
X-COST-TYPE:free
END:VEVENT
BEGIN:VEVENT
UID:ai1ec-791@www.brisbanegunclub.com.au
DTSTAMP:20210228T053558Z
CATEGORIES:
CONTACT:
DESCRIPTION:
DTSTART;TZID=Australia/Brisbane:20180325T093000
DTEND;TZID=Australia/Brisbane:20180325T173000
SEQUENCE:0
SUMMARY:Monthly DTL
URL:https://www.brisbanegunclub.com.au/event/sckaf-meadows-2-day-dtl/
X-COST-TYPE:free
END:VEVENT
BEGIN:VEVENT
UID:ai1ec-607@www.brisbanegunclub.com.au
DTSTAMP:20210228T053558Z
CATEGORIES:
CONTACT:
DESCRIPTION:
DTSTART;TZID=Australia/Brisbane:20180422T093000
DTEND;TZID=Australia/Brisbane:20180422T173000
EXDATE;TZID=Australia/Brisbane:20171224T093000
EXDATE;TZID=Australia/Brisbane:20180325T093000
EXDATE;TZID=Australia/Brisbane:20181223T093000
EXDATE;TZID=Australia/Brisbane:20190324T093000
EXDATE;TZID=Australia/Brisbane:20191222T093000
RRULE:FREQ=MONTHLY;BYDAY=4SU
SEQUENCE:0
SUMMARY:Monthly DTL
URL:https://www.brisbanegunclub.com.au/event/monthly-dtl/
X-COST-TYPE:free
END:VEVENT
BEGIN:VEVENT
UID:ai1ec-794@www.brisbanegunclub.com.au
DTSTAMP:20210228T053558Z
CATEGORIES:
CONTACT:
DESCRIPTION:
DTSTART;TZID=Australia/Brisbane:20180706T093000
DTEND;TZID=Australia/Brisbane:20180708T170000
SEQUENCE:0
SUMMARY:State ISSF Carnival
URL:https://www.brisbanegunclub.com.au/event/state-issf-carnival/
X-COST-TYPE:free
END:VEVENT
BEGIN:VEVENT
UID:ai1ec-800@www.brisbanegunclub.com.au
DTSTAMP:20210228T053558Z
CATEGORIES:
CONTACT:
DESCRIPTION:
DTSTART;TZID=Australia/Brisbane:20180929T093000
DTEND;TZID=Australia/Brisbane:20180930T173000
SEQUENCE:0
SUMMARY:SE Zone Trap Carnival
URL:https://www.brisbanegunclub.com.au/event/se-zone-trap-carnival/
X-COST-TYPE:free
END:VEVENT
BEGIN:VEVENT
UID:ai1ec-983@www.brisbanegunclub.com.au
DTSTAMP:20210228T053558Z
CATEGORIES:
CONTACT:
DESCRIPTION:
DTSTART;TZID=Australia/Brisbane:20181010T183000
DTEND;TZID=Australia/Brisbane:20181010T213000
EXDATE;TZID=Australia/Brisbane:20190109T183000
RRULE:FREQ=MONTHLY;BYDAY=2WE
SEQUENCE:0
SUMMARY:Monthly Night DTL Competition
URL:https://www.brisbanegunclub.com.au/event/monthly-night-dtl-competition/
X-COST-TYPE:free
END:VEVENT
BEGIN:VEVENT
UID:ai1ec-808@www.brisbanegunclub.com.au
DTSTAMP:20210228T053558Z
CATEGORIES:
CONTACT:
DESCRIPTION:
DTSTART;TZID=Australia/Brisbane:20181117T093000
DTEND;TZID=Australia/Brisbane:20181118T173000
SEQUENCE:0
SUMMARY:2018 Australian Open Olympic Trap Championship
URL:https://www.brisbanegunclub.com.au/event/2018-australian-open-olympic-t
 rap-championship/
X-COST-TYPE:free
END:VEVENT
BEGIN:VEVENT
UID:ai1ec-927@www.brisbanegunclub.com.au
DTSTAMP:20210228T053558Z
CATEGORIES:
CONTACT:
DESCRIPTION:
DTSTART;TZID=Australia/Brisbane:20181201T180000
LOCATION:Brisbane Gun Club
SEQUENCE:0
SUMMARY:BGC Christmas Party
URL:https://www.brisbanegunclub.com.au/event/bgc-christmas-party/
X-COST-TYPE:free
X-INSTANT-EVENT:1
END:VEVENT
BEGIN:VEVENT
UID:ai1ec-1004@www.brisbanegunclub.com.au
DTSTAMP:20210228T053558Z
CATEGORIES:
CONTACT:
DESCRIPTION:
DTSTART;TZID=Australia/Brisbane:20190113T090000
DTEND;TZID=Australia/Brisbane:20190119T170000
SEQUENCE:0
SUMMARY:ACTA ISSF Nationals
URL:https://www.brisbanegunclub.com.au/event/acta-issf-nationals-2/
X-COST-TYPE:free
END:VEVENT
BEGIN:VEVENT
UID:ai1ec-999@www.brisbanegunclub.com.au
DTSTAMP:20210228T053558Z
CATEGORIES:
CONTACT:
DESCRIPTION:
DTSTART;TZID=Australia/Brisbane:20190203T090000
DTEND;TZID=Australia/Brisbane:20190203T150000
EXDATE;TZID=Australia/Brisbane:20190106T090000
EXDATE;TZID=Australia/Brisbane:20190706T090000
EXDATE;TZID=Australia/Brisbane:20190707T090000
EXDATE;TZID=Australia/Brisbane:20210103T090000
RRULE:FREQ=MONTHLY;BYDAY=1SU
SEQUENCE:0
SUMMARY:Monthly Skeet Competition
URL:https://www.brisbanegunclub.com.au/event/monthly-skeet-competition/
X-COST-TYPE:free
END:VEVENT
BEGIN:VEVENT
UID:ai1ec-1016@www.brisbanegunclub.com.au
DTSTAMP:20210228T053558Z
CATEGORIES:
CONTACT:
DESCRIPTION:
DTSTART;TZID=Australia/Brisbane:20190203T090000
DTEND;TZID=Australia/Brisbane:20190203T170000
EXDATE;TZID=Australia/Brisbane:20190707T090000
EXDATE;TZID=Australia/Brisbane:20190901T090000
EXDATE;TZID=Australia/Brisbane:20191103T090000
RRULE:FREQ=MONTHLY;BYDAY=1SU
SEQUENCE:0
SUMMARY:Monthly Trench Comp
URL:https://www.brisbanegunclub.com.au/event/monthly-trench-comp-2/
X-COST-TYPE:free
END:VEVENT
BEGIN:VEVENT
UID:ai1ec-1006@www.brisbanegunclub.com.au
DTSTAMP:20210228T053559Z
CATEGORIES:
CONTACT:
DESCRIPTION:
DTSTART;TZID=Australia/Brisbane:20190215T090000
DTEND;TZID=Australia/Brisbane:20190217T170000
SEQUENCE:0
SUMMARY:25th Australasia-Pacific ISSF Grand Prix
URL:https://www.brisbanegunclub.com.au/event/25th-australasia-pacific-grand
 -prix/
X-COST-TYPE:free
END:VEVENT
BEGIN:VEVENT
UID:ai1ec-1008@www.brisbanegunclub.com.au
DTSTAMP:20210228T053559Z
CATEGORIES:
CONTACT:
DESCRIPTION:<p><a href='https://www.brisbanegunclub.com.au/wp-content/uploa
 ds/2018/11/2019-Meadows-Sckaf-Memorial.pdf'>2019 Meadows & Sckaf Memorial 
 Flyer</a></p>
DTSTART;TZID=Australia/Brisbane:20190323T090000
DTEND;TZID=Australia/Brisbane:20190324T170000
SEQUENCE:0
SUMMARY:Sckaf & Meadows 2 Day Trap Carnival
URL:https://www.brisbanegunclub.com.au/event/sckaf-meadows-2-day-trap-carni
 val/
X-COST-TYPE:free
END:VEVENT
BEGIN:VEVENT
UID:ai1ec-1073@www.brisbanegunclub.com.au
DTSTAMP:20210228T053559Z
CATEGORIES:
CONTACT:
DESCRIPTION:
DTSTART;TZID=Australia/Brisbane:20190619T183000
DTEND;TZID=Australia/Brisbane:20190619T213000
RRULE:FREQ=MONTHLY;BYDAY=3WE
SEQUENCE:0
SUMMARY:Trench Night Practice
URL:https://www.brisbanegunclub.com.au/event/trench-night-practice/
X-COST-TYPE:free
END:VEVENT
BEGIN:VEVENT
UID:ai1ec-1010@www.brisbanegunclub.com.au
DTSTAMP:20210228T053559Z
CATEGORIES:
CONTACT:
DESCRIPTION:
DTSTART;TZID=Australia/Brisbane:20190712T090000
DTEND;TZID=Australia/Brisbane:20190714T170000
SEQUENCE:0
SUMMARY:QLD State ISSF Carnival
URL:https://www.brisbanegunclub.com.au/event/qld-state-issf-carnival/
X-COST-TYPE:free
END:VEVENT
BEGIN:VEVENT
UID:ai1ec-1025@www.brisbanegunclub.com.au
DTSTAMP:20210228T053559Z
CATEGORIES:
CONTACT:
DESCRIPTION:
DTSTART;TZID=Australia/Brisbane:20190901T090000
DTEND;TZID=Australia/Brisbane:20190901T170000
SEQUENCE:0
SUMMARY:Monthly Trench Comp and SEZ Event
URL:https://www.brisbanegunclub.com.au/event/monthly-trench-comp-and-sez-ev
 ent/
X-COST-TYPE:free
END:VEVENT
BEGIN:VEVENT
UID:ai1ec-1013@www.brisbanegunclub.com.au
DTSTAMP:20210228T053559Z
CATEGORIES:
CONTACT:
DESCRIPTION:
DTSTART;TZID=Australia/Brisbane:20191102T090000
DTEND;TZID=Australia/Brisbane:20191103T170000
SEQUENCE:0
SUMMARY:Australian Open ISSF Olympic Trap Championship
URL:https://www.brisbanegunclub.com.au/event/australian-open-issf-olympic-t
 rap-championship/
X-COST-TYPE:free
END:VEVENT
END:VCALENDAR
